BEGIN:VCALENDAR
VERSION:2.0
PRODID:-//Victoria Hospice - ECPv6.15.20//NONSGML v1.0//EN
CALSCALE:GREGORIAN
METHOD:PUBLISH
X-ORIGINAL-URL:https://victoriahospice.org
X-WR-CALDESC:Events for Victoria Hospice
REFRESH-INTERVAL;VALUE=DURATION:PT1H
X-Robots-Tag:noindex
X-PUBLISHED-TTL:PT1H
BEGIN:VTIMEZONE
TZID:America/Vancouver
BEGIN:DAYLIGHT
TZOFFSETFROM:-0800
TZOFFSETTO:-0700
TZNAME:PDT
DTSTART:20230312T100000
END:DAYLIGHT
BEGIN:STANDARD
TZOFFSETFROM:-0700
TZOFFSETTO:-0800
TZNAME:PST
DTSTART:20231105T090000
END:STANDARD
BEGIN:DAYLIGHT
TZOFFSETFROM:-0800
TZOFFSETTO:-0700
TZNAME:PDT
DTSTART:20240310T100000
END:DAYLIGHT
BEGIN:STANDARD
TZOFFSETFROM:-0700
TZOFFSETTO:-0800
TZNAME:PST
DTSTART:20241103T090000
END:STANDARD
BEGIN:DAYLIGHT
TZOFFSETFROM:-0800
TZOFFSETTO:-0700
TZNAME:PDT
DTSTART:20250309T100000
END:DAYLIGHT
BEGIN:STANDARD
TZOFFSETFROM:-0700
TZOFFSETTO:-0800
TZNAME:PST
DTSTART:20251102T090000
END:STANDARD
END:VTIMEZONE
BEGIN:VEVENT
DTSTART;TZID=America/Vancouver:20241211T163000
DTEND;TZID=America/Vancouver:20241211T183000
DTSTAMP:20260422T065206
CREATED:20241104T234335Z
LAST-MODIFIED:20241104T234335Z
UID:10000481-1733934600-1733941800@victoriahospice.org
SUMMARY:‘Grieving Through the Holidays’ Workshop
DESCRIPTION:Join us if you are bereaved following a death of someone important\, and want to be supported in your grief through the holidays. \nAre you wondering how to get through the holiday season after the loss of an important person in your life? Facilitated by a bereavement counsellor and bereavement volunteer\, join us for this in person workshop to discuss grief\, and learn tips to help you cope with and navigate grief during the holidays. Along with other people who are also grieving someone important in their life\, you and other participants will have an opportunity to ask questions\, share ideas\, and learn about how to care for yourselves as you grieve through this holiday season. This is a one-time\, interactive and educational workshop. \nThis is an in-person workshop offered at our Community Support Centre at 102-4450 Chatterton Way. Please do not attend if you have signs of illness/infection. We appreciate your attention to this matter. Please arrive on time.  \nPlease note that when registering you are confirming your spot in a workshop with a limited number of spots available\, so please do your best to only register if you feel you are able to come. Please Register on our Eventbrite page here. \nIf you have further questions\, please call Bereavement Services at 250-519-3040 or email Hospice.Bereavement@islandhealth.ca  \n\nThis workshop is free of charge. Although never expected Victoria Hospice gratefully accepts all donations.
URL:https://victoriahospice.org/event/grieving-through-the-holidays-workshop-2/
LOCATION:Victoria Hospice Community Support Centre\, 102-4450 Chatterton Way\, Victoria\, British Columbia\, Canada
CATEGORIES:Bereavement Workshop
ATTACH;FMTTYPE=image/jpeg:https://victoriahospice.org/wp-content/uploads/2022/06/2018-10-31-Victoria-Hospice-Sarah-Stein-58-scaled.jpg
END:VEVENT
BEGIN:VEVENT
DTSTART;TZID=America/Vancouver:20241212T163000
DTEND;TZID=America/Vancouver:20241212T180000
DTSTAMP:20260422T065206
CREATED:20241104T233546Z
LAST-MODIFIED:20241106T165327Z
UID:10000480-1734021000-1734026400@victoriahospice.org
SUMMARY:‘Grieving Through the Holidays’ Workshop (online)
DESCRIPTION:Join us if you are bereaved following a death of someone important\, and want to be supported in your grief through the holidays. \nAre you wondering how to get through the holiday season after the loss of an important person in your life? Facilitated by a two bereavement counsellors\, join us for this online Q&A to discuss grief\, and learn tips to help you cope with and navigate grief during the holidays. Along with other people who are also grieving someone important in their life\, you and other participants will have an opportunity to ask questions\, share ideas\, and learn about how to care for yourselves as you grieve through this holiday season. This is a one-time\, interactive and educational Q&A based workshop. \n\nThis is an online Q&A offered using the Zoom video platform to a limited number of participants. Instructions to participate on Zoom will be given with registration. Please arrive on time.  \nPlease note that when registering you are confirming your spot in a workshop with a limited number of spots available\, so please do your best to only register if you feel you are able to come. Please Register on our Eventbrite page here \n  \nIf you have further questions\, please call Bereavement Services at 250-519-3040 or email Hospice.Bereavement@islandhealth.ca  \n\nThis workshop is free of charge. Although never expected\, Victoria Hospice gratefully accepts all donations.
URL:https://victoriahospice.org/event/grieving-through-the-holidays-workshop/
LOCATION:Victoria Hospice Community Support Centre\, 102-4450 Chatterton Way\, Victoria\, British Columbia\, Canada
CATEGORIES:Bereavement Workshop
ATTACH;FMTTYPE=image/jpeg:https://victoriahospice.org/wp-content/uploads/2022/06/2018-10-31-Victoria-Hospice-Sarah-Stein-58-scaled.jpg
END:VEVENT
END:VCALENDAR