BEGIN:VCALENDAR
VERSION:2.0
PRODID:-//Victoria Hospice - ECPv6.15.20//NONSGML v1.0//EN
CALSCALE:GREGORIAN
METHOD:PUBLISH
X-ORIGINAL-URL:https://victoriahospice.org
X-WR-CALDESC:Events for Victoria Hospice
REFRESH-INTERVAL;VALUE=DURATION:PT1H
X-Robots-Tag:noindex
X-PUBLISHED-TTL:PT1H
BEGIN:VTIMEZONE
TZID:America/Vancouver
BEGIN:DAYLIGHT
TZOFFSETFROM:-0800
TZOFFSETTO:-0700
TZNAME:PDT
DTSTART:20250309T100000
END:DAYLIGHT
BEGIN:STANDARD
TZOFFSETFROM:-0700
TZOFFSETTO:-0800
TZNAME:PST
DTSTART:20251102T090000
END:STANDARD
BEGIN:DAYLIGHT
TZOFFSETFROM:-0800
TZOFFSETTO:-0700
TZNAME:PDT
DTSTART:20260308T100000
END:DAYLIGHT
BEGIN:STANDARD
TZOFFSETFROM:-0700
TZOFFSETTO:-0800
TZNAME:PST
DTSTART:20261101T090000
END:STANDARD
BEGIN:DAYLIGHT
TZOFFSETFROM:-0800
TZOFFSETTO:-0700
TZNAME:PDT
DTSTART:20270314T100000
END:DAYLIGHT
BEGIN:STANDARD
TZOFFSETFROM:-0700
TZOFFSETTO:-0800
TZNAME:PST
DTSTART:20271107T090000
END:STANDARD
END:VTIMEZONE
BEGIN:VEVENT
DTSTART;TZID=America/Vancouver:20260127T160000
DTEND;TZID=America/Vancouver:20260127T180000
DTSTAMP:20260421T110314
CREATED:20251215T194325Z
LAST-MODIFIED:20251215T194325Z
UID:10000579-1769529600-1769536800@victoriahospice.org
SUMMARY:Living with Grief: Adjusting to Life After Loss (in person)
DESCRIPTION:A one-time workshop covering the basics of grief and mourning\, and ways to cope for those who are bereaved following the death of a loved one (this is the same content used in previous offerings of this workshop). This is an education-focussed but interactive workshop that encourages sharing from participants while learning about different ideas around grief and mourning. Although we will not be screening participants\, we recommend that you give yourself at least one month after your loss before attending this workshop due to the potentially overwhelming nature of grief. \n\n\n\nAre you grieving the death of someone important to you? Are you surprised by your grief and wondering what is normal and how best to cope? This workshop\, developed by the grief counsellors at Victoria Hospice\, will help you to deepen your understanding of your grief\, as well as offering a chance to connect with other grievers in our community. Join us as we: \n\n\n\n\nShare and support one another in your grieving experiences\n\n\n\nBetter understand grieving and mourning\n\n\n\nExplore the many ways that grief can impact our lives\n\n\n\nExplain how grieving naturally works to help us live with our losses\n\n\n\nIdentify ways to support healthy adjustment to loss\n\n\n\nExplore your continued connection to the person who has died\n\n\n\nHave opportunities for you to reflect and share on the material\n\n\n\nAnswer your questions\n\n\n\n\nTo register\, please complete the Eventbrite link \n\n\n\nThe workshop is free of charge. Please only register if you feel will be able to attend the workshop. As there are a limited number of spaces available\, confirming a ticket means you are claiming one of these spaces. If you have to cancel your registration\, please contact us at the information below. \n\n\n\nThis workshop will take place at our Community Support Centre at 102-4450 Chatterton Way. Please do not attend if you have signs of illness/infection. \n\n\n\nIf you have further questions\, please call Bereavement Services at 250-519-3040 or email Hospice.Bereavement@islandhealth.ca \n\n\n\n 
URL:https://victoriahospice.org/event/living-with-grief-adjusting-to-life-after-loss-in-person-11/
LOCATION:Victoria Hospice Community Support Centre\, 102-4450 Chatterton Way\, Victoria\, British Columbia\, Canada
CATEGORIES:Bereavement Workshop
ATTACH;FMTTYPE=image/jpeg:https://victoriahospice.org/wp-content/uploads/2023/06/2022-03-01-Hospice-64-web-1.jpeg
END:VEVENT
END:VCALENDAR