BEGIN:VCALENDAR
VERSION:2.0
PRODID:-//Victoria Hospice - ECPv6.15.20//NONSGML v1.0//EN
CALSCALE:GREGORIAN
METHOD:PUBLISH
X-ORIGINAL-URL:https://victoriahospice.org
X-WR-CALDESC:Events for Victoria Hospice
REFRESH-INTERVAL;VALUE=DURATION:PT1H
X-Robots-Tag:noindex
X-PUBLISHED-TTL:PT1H
BEGIN:VTIMEZONE
TZID:America/Vancouver
BEGIN:DAYLIGHT
TZOFFSETFROM:-0800
TZOFFSETTO:-0700
TZNAME:PDT
DTSTART:20210314T100000
END:DAYLIGHT
BEGIN:STANDARD
TZOFFSETFROM:-0700
TZOFFSETTO:-0800
TZNAME:PST
DTSTART:20211107T090000
END:STANDARD
BEGIN:DAYLIGHT
TZOFFSETFROM:-0800
TZOFFSETTO:-0700
TZNAME:PDT
DTSTART:20220313T100000
END:DAYLIGHT
BEGIN:STANDARD
TZOFFSETFROM:-0700
TZOFFSETTO:-0800
TZNAME:PST
DTSTART:20221106T090000
END:STANDARD
BEGIN:DAYLIGHT
TZOFFSETFROM:-0800
TZOFFSETTO:-0700
TZNAME:PDT
DTSTART:20230312T100000
END:DAYLIGHT
BEGIN:STANDARD
TZOFFSETFROM:-0700
TZOFFSETTO:-0800
TZNAME:PST
DTSTART:20231105T090000
END:STANDARD
END:VTIMEZONE
BEGIN:VEVENT
DTSTART;VALUE=DATE:20221101
DTEND;VALUE=DATE:20221201
DTSTAMP:20260423T050655
CREATED:20221209T195455Z
LAST-MODIFIED:20230130T231915Z
UID:10000196-1667260800-1669852799@victoriahospice.org
SUMMARY:Need furniture? Shop and support Victoria Hospice Nov. 1-30
DESCRIPTION:One-Stop Furniture & Mattress’s Anniversary Sale supports patients and families at Victoria Hospice until the end of November.   \n\n\n\nYou’ll get 5% off your purchase for the entire month or 16% off your purchase when you make a donation to Victoria Hospice while in store!  \n\n\n\nIf you purchase one item\, the minimum donation is $30; if you purchase two or more items\, the minimum donation is $16 per item.   \n\n\n\nVisit One Stop Furniture at #202 9768 Fifth Street in beautiful Sidney\, BC. 
URL:https://victoriahospice.org/event/need-furniture-shop-and-support-victoria-hospice-nov-1-30/
LOCATION:BC
CATEGORIES:Fundraiser
ATTACH;FMTTYPE=image/png:https://victoriahospice.org/wp-content/uploads/2022/12/furniture-sale.png
END:VEVENT
BEGIN:VEVENT
DTSTART;TZID=America/Vancouver:20221103T180000
DTEND;TZID=America/Vancouver:20221103T210000
DTSTAMP:20260423T050655
CREATED:20221209T195455Z
LAST-MODIFIED:20230130T231914Z
UID:10000190-1667498400-1667509200@victoriahospice.org
SUMMARY:I'm Still Here – a Target Theatre production hosted by Victoria Hospice
DESCRIPTION:SOLD OUT! Join us for an unforgettable performance by Target Theatre followed by a discussion led by Victoria Hospice counsellor Betty Anderson. \n\n\n\nI’m Still Here is a research-based play that follows the lives of four people touched by Alzheimer’s disease. \n\n\n\nThe play highlights the profound effects of the disease on people living with Alzheimer’s and their loved ones. While I’m Still Here is moving and can be painful at times\, it offers hope for people affected by this debilitating and misunderstood disease. \n\n\n\nI’m Still Here was written by Vrenia Ivonoffski and based on research by Dr. Christine Jonas-Simpson\, and Dr. Gail Mitchell\, of York University. \n\n\n\nDate: Thursday November 3\, 2022 \n\n\n\nTime: Doors open at 6:00pm\, performance begins at 6:30pm \n\n\n\nLocation: Woodward Rm.\, RJH Admin Building (formerly Begbie Hall) 2101 Richmond Ave. \n\n\n\nTickets: To secure your spot\, please click here register on Eventbrite.  \n\n\n\nCost: By donation. Victoria Hospice is a registered charity – donations fund almost half of our annual operating costs and are critical for the ongoing operation of our programs and services. We were one of Charity Intelligence’s Top 100 charities in 2021.
URL:https://victoriahospice.org/event/im-still-here-a-target-theatre-production-hosted-by-victoria-hospice/
LOCATION:BC
CATEGORIES:Fundraiser
ATTACH;FMTTYPE=image/jpeg:https://victoriahospice.org/wp-content/uploads/2020/02/ImStillHere.jpg
END:VEVENT
END:VCALENDAR