BEGIN:VCALENDAR
VERSION:2.0
PRODID:-//Victoria Hospice - ECPv6.15.20//NONSGML v1.0//EN
CALSCALE:GREGORIAN
METHOD:PUBLISH
X-ORIGINAL-URL:https://victoriahospice.org
X-WR-CALDESC:Events for Victoria Hospice
REFRESH-INTERVAL;VALUE=DURATION:PT1H
X-Robots-Tag:noindex
X-PUBLISHED-TTL:PT1H
BEGIN:VTIMEZONE
TZID:America/Vancouver
BEGIN:DAYLIGHT
TZOFFSETFROM:-0800
TZOFFSETTO:-0700
TZNAME:PDT
DTSTART:20220313T100000
END:DAYLIGHT
BEGIN:STANDARD
TZOFFSETFROM:-0700
TZOFFSETTO:-0800
TZNAME:PST
DTSTART:20221106T090000
END:STANDARD
BEGIN:DAYLIGHT
TZOFFSETFROM:-0800
TZOFFSETTO:-0700
TZNAME:PDT
DTSTART:20230312T100000
END:DAYLIGHT
BEGIN:STANDARD
TZOFFSETFROM:-0700
TZOFFSETTO:-0800
TZNAME:PST
DTSTART:20231105T090000
END:STANDARD
BEGIN:DAYLIGHT
TZOFFSETFROM:-0800
TZOFFSETTO:-0700
TZNAME:PDT
DTSTART:20240310T100000
END:DAYLIGHT
BEGIN:STANDARD
TZOFFSETFROM:-0700
TZOFFSETTO:-0800
TZNAME:PST
DTSTART:20241103T090000
END:STANDARD
END:VTIMEZONE
BEGIN:VEVENT
DTSTART;TZID=America/Vancouver:20230603T090000
DTEND;TZID=America/Vancouver:20230603T170000
DTSTAMP:20260422T191845
CREATED:20230525T200750Z
LAST-MODIFIED:20230525T200858Z
UID:10000387-1685782800-1685811600@victoriahospice.org
SUMMARY:Spinathon cyclists duel for donations
DESCRIPTION:Cycle of Life Tour riders spin for donations to support hospice care on Vancouver Island \nA team of cyclists are going the distance to support compassionate end-of-life care at Victoria Hospice. In August\, they’ll ride more than 200 km over two days around southern Vancouver Island and Salt Spring Island in the annual Cycle of Life Tour fundraising ride. \nBut on Saturday\, June 3\, the Breaking Wind for Victoria Hospice team will be at Canadian Tire at the Hillside Centre to compete with teams representing Nanaimo Community Hospice and the Oceanside Hospice Society in a Spinathon duel for donations. The Nanaimo and Oceanside teams will spin at their local Canadian Tire stores. \nLast year\, this Victoria team raised more than $19\,000 for Victoria Hospice in the Cycle of Life Tour. This year they plan to raise even more to ensure everyone has access to compassionate end-of-life care. \nDrop by Canadian Tire on Hillside on June 3 between 9 am and 3 pm to show the cyclists your support! You can also contribute to the team’s efforts on their fundraising page.
URL:https://victoriahospice.org/event/spinathon-cyclists-duel-for-donations/
LOCATION:BC
CATEGORIES:Fundraiser
ATTACH;FMTTYPE=image/jpeg:https://victoriahospice.org/wp-content/uploads/2023/05/Breaking-Wind-Team-Photo.jpg
END:VEVENT
END:VCALENDAR