BEGIN:VCALENDAR
VERSION:2.0
PRODID:-//Victoria Hospice - ECPv6.15.20//NONSGML v1.0//EN
CALSCALE:GREGORIAN
METHOD:PUBLISH
X-WR-CALNAME:Victoria Hospice
X-ORIGINAL-URL:https://victoriahospice.org
X-WR-CALDESC:Events for Victoria Hospice
REFRESH-INTERVAL;VALUE=DURATION:PT1H
X-Robots-Tag:noindex
X-PUBLISHED-TTL:PT1H
BEGIN:VTIMEZONE
TZID:America/Vancouver
BEGIN:DAYLIGHT
TZOFFSETFROM:-0800
TZOFFSETTO:-0700
TZNAME:PDT
DTSTART:20220313T100000
END:DAYLIGHT
BEGIN:STANDARD
TZOFFSETFROM:-0700
TZOFFSETTO:-0800
TZNAME:PST
DTSTART:20221106T090000
END:STANDARD
BEGIN:DAYLIGHT
TZOFFSETFROM:-0800
TZOFFSETTO:-0700
TZNAME:PDT
DTSTART:20230312T100000
END:DAYLIGHT
BEGIN:STANDARD
TZOFFSETFROM:-0700
TZOFFSETTO:-0800
TZNAME:PST
DTSTART:20231105T090000
END:STANDARD
BEGIN:DAYLIGHT
TZOFFSETFROM:-0800
TZOFFSETTO:-0700
TZNAME:PDT
DTSTART:20240310T100000
END:DAYLIGHT
BEGIN:STANDARD
TZOFFSETFROM:-0700
TZOFFSETTO:-0800
TZNAME:PST
DTSTART:20241103T090000
END:STANDARD
END:VTIMEZONE
BEGIN:VEVENT
DTSTART;VALUE=DATE:20230914
DTEND;VALUE=DATE:20230915
DTSTAMP:20260422T145422
CREATED:20230830T232312Z
LAST-MODIFIED:20230831T223514Z
UID:10000413-1694649600-1694735999@victoriahospice.org
SUMMARY:Tapestry rides for Victoria Hospice
DESCRIPTION:On September 14\, residents and friends of Tapestry at Victoria Harbour are planning to pedal in support of Victoria Hospice. Inspired by the Cycle of Life Tour – a 2-day\, 200km group ride that took place on August 26-27\, the residents decided to take on their own challenge with an in-house ride out to Sidney and back! \nThe ride will leave Tapestry at Victoria Harbour in the morning\, with some fun and fundraising planned for their return. More details coming soon! \nMake a donation in support of their fundraising goal!
URL:https://victoriahospice.org/event/tapestry/
LOCATION:BC
CATEGORIES:Fundraiser
ATTACH;FMTTYPE=image/png:https://victoriahospice.org/wp-content/uploads/2023/08/cyclist-for-fundraiser.png
END:VEVENT
BEGIN:VEVENT
DTSTART;VALUE=DATE:20230927
DTEND;VALUE=DATE:20230928
DTSTAMP:20260422T145422
CREATED:20230814T191232Z
LAST-MODIFIED:20230814T192411Z
UID:10000408-1695772800-1695859199@victoriahospice.org
SUMMARY:Clews Charity Golf Tournament
DESCRIPTION:The 12th annual Clews Charity Golf Tournament returns to the Uplands Golf Course on Wednesday\, September 27\, 2023 for another round of fun and fundraising\, and a beard shave! \nOrganized by Kim (Victoria Hospice Foundation board member) and Justin Clews (an Uplands Golf pro and UVic Vikes golf coach)\, the tournament has raised more than $244\,000 for compassionate end-of-life care at Victoria Hospice. \nTo help support patients and families in need of end-of-life care\, Justin has pledged to shave his beard if $5\,000 in donations is raised. Help us reach the goal by making a donation below. \nInterested in becoming an Elite Sponsor for $500\, a Hole Sponsor for $1000 or joining in to play? Email clewshospicegolf@gmail.com. \n 
URL:https://victoriahospice.org/event/clews-charity-golf-tournament/
LOCATION:Uplands Golf Course\, Victoria\, British Columbia\, v8r 5k5\, Canada
CATEGORIES:Fundraiser
ATTACH;FMTTYPE=image/png:https://victoriahospice.org/wp-content/uploads/2023/08/golf-clews-stock-e1692041037271.png
END:VEVENT
END:VCALENDAR