BEGIN:VCALENDAR
VERSION:2.0
PRODID:-//Victoria Hospice - ECPv6.15.20//NONSGML v1.0//EN
CALSCALE:GREGORIAN
METHOD:PUBLISH
X-ORIGINAL-URL:https://victoriahospice.org
X-WR-CALDESC:Events for Victoria Hospice
REFRESH-INTERVAL;VALUE=DURATION:PT1H
X-Robots-Tag:noindex
X-PUBLISHED-TTL:PT1H
BEGIN:VTIMEZONE
TZID:America/Vancouver
BEGIN:DAYLIGHT
TZOFFSETFROM:-0800
TZOFFSETTO:-0700
TZNAME:PDT
DTSTART:20220313T100000
END:DAYLIGHT
BEGIN:STANDARD
TZOFFSETFROM:-0700
TZOFFSETTO:-0800
TZNAME:PST
DTSTART:20221106T090000
END:STANDARD
BEGIN:DAYLIGHT
TZOFFSETFROM:-0800
TZOFFSETTO:-0700
TZNAME:PDT
DTSTART:20230312T100000
END:DAYLIGHT
BEGIN:STANDARD
TZOFFSETFROM:-0700
TZOFFSETTO:-0800
TZNAME:PST
DTSTART:20231105T090000
END:STANDARD
BEGIN:DAYLIGHT
TZOFFSETFROM:-0800
TZOFFSETTO:-0700
TZNAME:PDT
DTSTART:20240310T100000
END:DAYLIGHT
BEGIN:STANDARD
TZOFFSETFROM:-0700
TZOFFSETTO:-0800
TZNAME:PST
DTSTART:20241103T090000
END:STANDARD
END:VTIMEZONE
BEGIN:VEVENT
DTSTART;VALUE=DATE:20231201
DTEND;VALUE=DATE:20240101
DTSTAMP:20260422T102822
CREATED:20221209T195455Z
LAST-MODIFIED:20231121T155505Z
UID:10000171-1701388800-1704067199@victoriahospice.org
SUMMARY:All That Glitters XI: The Avenue Gallery’s Jewellery Fundraising Exhibition for Victoria Hospice
DESCRIPTION:The Avenue Gallery’s 11th annual jewellery exhibition and fundraiser for Victoria Hospice showcases wearable art created by the finest boutique jewellers in Canada. Once again\, a percentage from the sale of each gem sold between December 1 to 31 will be donated to Victoria Hospice. Looking fabulous has never had such a worthy payoff! \n\n\n\nVisit The Avenue Gallery at 2184 Oak Bay Avenue.
URL:https://victoriahospice.org/event/all-that-glitters-xi-avenue-gallerys-jewellery-fundraising-exhibition-for-victoria-hospice-dec-1-31/
LOCATION:BC
CATEGORIES:Fundraiser
ATTACH;FMTTYPE=image/jpeg:https://victoriahospice.org/wp-content/uploads/2022/12/stacking_blossom_rings_with_diamonds_by_chis_creations.jpg
END:VEVENT
BEGIN:VEVENT
DTSTART;TZID=America/Vancouver:20231213T120000
DTEND;TZID=America/Vancouver:20231213T130000
DTSTAMP:20260422T102822
CREATED:20231212T230443Z
LAST-MODIFIED:20231212T232705Z
UID:10000420-1702468800-1702472400@victoriahospice.org
SUMMARY:St Mary's Oak Bay Advent Series - Singing the Christmas Story
DESCRIPTION:St. Mary the Virgin Anglican Church’s Notes of Joy Christmas concert series is a fundraiser for Victoria Hospice Bereavement Services. \nThe December 13 concert; Singing the Christmas Story\, features music by Agnes Steida – soprano\, Kate Rhodes – violin and soprano\, Curt Bergen – piano and organ \nAttend by donation at St. Mary’s Church on 1701 Elgin Road.
URL:https://victoriahospice.org/event/st-marys-oak-bay-advent-series-singing-the-christmas-story/
LOCATION:St. Mary the Virgin Anglican Church\, Victoria\, British Columbia\, V8R 5L7\, Canada
CATEGORIES:Fundraiser
ATTACH;FMTTYPE=image/jpeg:https://victoriahospice.org/wp-content/uploads/2023/11/Advent-Concert-Series-2023-Poster.jpg
END:VEVENT
BEGIN:VEVENT
DTSTART;TZID=America/Vancouver:20231220T120000
DTEND;TZID=America/Vancouver:20231220T130000
DTSTAMP:20260422T102822
CREATED:20231212T230356Z
LAST-MODIFIED:20231212T232742Z
UID:10000421-1703073600-1703077200@victoriahospice.org
SUMMARY:St Mary's Oak Bay Advent Series - Sunrise Christmas Surprise
DESCRIPTION:St. Mary the Virgin Anglican Church’s Notes of Joy Christmas concert series is a fundraiser for Victoria Hospice Bereavement Services. \nThe December 20 concert; Sunrise Christmas Surprise\, features music by Mittwoch String Quartet. \nAttend by donation at St. Mary’s Church on 1701 Elgin Road
URL:https://victoriahospice.org/event/st-marys-oak-bay-advent-series-sunrise-christmas-surprise/
LOCATION:St. Mary the Virgin Anglican Church\, Victoria\, British Columbia\, V8R 5L7\, Canada
CATEGORIES:Fundraiser
ATTACH;FMTTYPE=image/jpeg:https://victoriahospice.org/wp-content/uploads/2023/11/Advent-Concert-Series-2023-Poster-1.jpg
END:VEVENT
END:VCALENDAR