BEGIN:VCALENDAR
VERSION:2.0
PRODID:-//Victoria Hospice - ECPv6.15.20//NONSGML v1.0//EN
CALSCALE:GREGORIAN
METHOD:PUBLISH
X-ORIGINAL-URL:https://victoriahospice.org
X-WR-CALDESC:Events for Victoria Hospice
REFRESH-INTERVAL;VALUE=DURATION:PT1H
X-Robots-Tag:noindex
X-PUBLISHED-TTL:PT1H
BEGIN:VTIMEZONE
TZID:America/Vancouver
BEGIN:DAYLIGHT
TZOFFSETFROM:-0800
TZOFFSETTO:-0700
TZNAME:PDT
DTSTART:20230312T100000
END:DAYLIGHT
BEGIN:STANDARD
TZOFFSETFROM:-0700
TZOFFSETTO:-0800
TZNAME:PST
DTSTART:20231105T090000
END:STANDARD
BEGIN:DAYLIGHT
TZOFFSETFROM:-0800
TZOFFSETTO:-0700
TZNAME:PDT
DTSTART:20240310T100000
END:DAYLIGHT
BEGIN:STANDARD
TZOFFSETFROM:-0700
TZOFFSETTO:-0800
TZNAME:PST
DTSTART:20241103T090000
END:STANDARD
BEGIN:DAYLIGHT
TZOFFSETFROM:-0800
TZOFFSETTO:-0700
TZNAME:PDT
DTSTART:20250309T100000
END:DAYLIGHT
BEGIN:STANDARD
TZOFFSETFROM:-0700
TZOFFSETTO:-0800
TZNAME:PST
DTSTART:20251102T090000
END:STANDARD
END:VTIMEZONE
BEGIN:VEVENT
DTSTART;TZID=America/Vancouver:20240306T080000
DTEND;TZID=America/Vancouver:20240504T160000
DTSTAMP:20260424T180134
CREATED:20240306T214858Z
LAST-MODIFIED:20240408T133559Z
UID:10000431-1709712000-1714838400@victoriahospice.org
SUMMARY:Get Your Hike for Hospice 50/50 Raffle Tickets!
DESCRIPTION:Win big while supporting compassionate care at Victoria Hospice! Tickets are now on sale for the 2023 Hike for Hospice 50/50 raffle. \nBuy single tickets for $10\, a three-pack for $25\, 10 for $50 or 50 for $200. The anticipated jackpot is $15\,000 with proceeds split between the raffle winner and Victoria Hospice (tickets available online only\, no tickets will be sold at the Hike for Hospice event) \nWhatever the amount\, you’re a winner when you support Victoria Hospice patients and families. \nBig thanks to raffle sponsor Bayshore Home Health! Get your tickets today! \nTickets will be on sale until Saturday\, May 4 at 4pm. The winner will be drawn on Saturday\, May 4 at 5pm and announced at Hike for Hospice and on the website. \nChances are 1 in 20\,400 to win a prize. Actual odds depend on number of tickets sold. Know your limit\, play within it. 19+ to play. BC Gaming Event Licence # 147757
URL:https://victoriahospice.org/event/get-your-hike-for-hospice-50-50-raffle-tickets/
LOCATION:British Columbia
CATEGORIES:Fundraiser
ATTACH;FMTTYPE=image/png:https://victoriahospice.org/wp-content/uploads/2024/03/Untitled-design-21.png
ORGANIZER;CN="Victoria Hospice":MAILTO:edresearch@victoriahospice.org
END:VEVENT
END:VCALENDAR