BEGIN:VCALENDAR
VERSION:2.0
PRODID:-//Victoria Hospice - ECPv6.15.20//NONSGML v1.0//EN
CALSCALE:GREGORIAN
METHOD:PUBLISH
X-WR-CALNAME:Victoria Hospice
X-ORIGINAL-URL:https://victoriahospice.org
X-WR-CALDESC:Events for Victoria Hospice
REFRESH-INTERVAL;VALUE=DURATION:PT1H
X-Robots-Tag:noindex
X-PUBLISHED-TTL:PT1H
BEGIN:VTIMEZONE
TZID:America/Vancouver
BEGIN:DAYLIGHT
TZOFFSETFROM:-0800
TZOFFSETTO:-0700
TZNAME:PDT
DTSTART:20230312T100000
END:DAYLIGHT
BEGIN:STANDARD
TZOFFSETFROM:-0700
TZOFFSETTO:-0800
TZNAME:PST
DTSTART:20231105T090000
END:STANDARD
BEGIN:DAYLIGHT
TZOFFSETFROM:-0800
TZOFFSETTO:-0700
TZNAME:PDT
DTSTART:20240310T100000
END:DAYLIGHT
BEGIN:STANDARD
TZOFFSETFROM:-0700
TZOFFSETTO:-0800
TZNAME:PST
DTSTART:20241103T090000
END:STANDARD
BEGIN:DAYLIGHT
TZOFFSETFROM:-0800
TZOFFSETTO:-0700
TZNAME:PDT
DTSTART:20250309T100000
END:DAYLIGHT
BEGIN:STANDARD
TZOFFSETFROM:-0700
TZOFFSETTO:-0800
TZNAME:PST
DTSTART:20251102T090000
END:STANDARD
END:VTIMEZONE
BEGIN:VEVENT
DTSTART;VALUE=DATE:20240809
DTEND;VALUE=DATE:20240812
DTSTAMP:20260424T113328
CREATED:20240628T205402Z
LAST-MODIFIED:20240702T170335Z
UID:10000447-1723161600-1723420799@victoriahospice.org
SUMMARY:Mountain Golf Tournament
DESCRIPTION:A close-knit group of family and friends will hit the links again this year August 9-11 to celebrate the 31st annual Mountain Golf Tournament. The tour has grown from twelve to 70 participants and now takes place on the Olympic View\, Cordova Bay and Bear Mountain courses. \nPaul Sekhon was a founding member\, beloved family member and friend who died in 2011. The care Paul received on the Inpatient Unit and at home with support from the Palliative Response Team served as inspiration to Paul’s friends and family to do what they could to ensure that compassionate care is available to others. \n“In the final weeks of Dad’s life\, using the hospice services at home – what an opportunity that was to have four weeks in our home having everyone come in and visit – many people don’t get to have that\,” says Paul’s son\, Javas. “That month was really special\, and that was something hospice was able to help provide.” \nThe tournament also honours the memory of Raman Jhuti\, a Mountain Golf Tournament team member and cherished friend\, who died in 2020. \nThe friends of Paul and Raman aim to raise $35\,000 this year. To date their efforts have resulted in over $170\,000 being raised for Hospice. \nYou can support their fundraising goal by donating here\, or by contacting us for more info.
URL:https://victoriahospice.org/event/mountain-golf-tournament-2/
LOCATION:BC
ATTACH;FMTTYPE=image/jpeg:https://victoriahospice.org/wp-content/uploads/2023/07/Mountain-Golf-2023.jpg
END:VEVENT
BEGIN:VEVENT
DTSTART;TZID=America/Vancouver:20240824T100000
DTEND;TZID=America/Vancouver:20240824T120000
DTSTAMP:20260424T113328
CREATED:20240730T160657Z
LAST-MODIFIED:20240730T160823Z
UID:10000455-1724493600-1724500800@victoriahospice.org
SUMMARY:Living with Grief: Adjusting to Life After Loss (in person)
DESCRIPTION:A one-time\, interactive workshop covering the basics of grief and mourning\, and ways to cope for those who are bereaved following the death of a loved one. This is an interactive workshop that encourages sharing from participants while learning about different ideas around grief and mourning. Although we will not be screening participants\, we recommend that you give yourself at least one month after your loss before attending this workshop due to the potentially overwhelming nature of grief. \nHave you recently lost someone important to you? Are you surprised by your grief and wondering what is normal and how best to cope? This workshop\, developed by the grief counsellors at Victoria Hospice\, will help you understand your grief\, as well as offering a chance to connect with other grievers in our community. Join us as we: \n\nShare and support one another in your grieving experiences\nBetter understand grieving and mourning\nExplore the many ways that grief can impact our lives\nExplain how grieving naturally works to help us live with our losses\nIdentify ways to support healthy adjustment to loss\nExplore your continued connection to the person who has died\nHave opportunities for you to reflect and share on the material\nAnswer your questions\n\nThis workshop will take place at our Community Support Centre at 102-4450 Chatterton Way. Masks are optional. Please do not attend if you have signs of illness/infection. We appreciate your attention to this matter. \nThe workshop is free of charge. Please only register if you feel will be able to attend the workshop. As there are a limited number of spaces available\, confirming a ticket means you are claiming one of these spaces. Please register at the EventBrite link below. \nPlease email Victoria Hospice Bereavement Services or call 250-519-3040 if you have any questions.
URL:https://victoriahospice.org/event/living-with-grief-adjusting-to-life-after-loss-in-person-5/
LOCATION:Victoria Hospice Community Support Centre\, 102-4450 Chatterton Way\, Victoria\, British Columbia\, Canada
CATEGORIES:Bereavement Workshop
ATTACH;FMTTYPE=image/jpeg:https://victoriahospice.org/wp-content/uploads/2023/06/2022-03-01-Hospice-64-web-1.jpeg
END:VEVENT
BEGIN:VEVENT
DTSTART;VALUE=DATE:20240826
DTEND;VALUE=DATE:20240827
DTSTAMP:20260424T113328
CREATED:20240729T191028Z
LAST-MODIFIED:20240808T205747Z
UID:10000452-1724630400-1724716799@victoriahospice.org
SUMMARY:49th Annual Hugh Carbery Pro-Am Tournament
DESCRIPTION:The Hugh Carbery Pro-Am Tournament was founded in 1974 by Don Billsborough\, Bryan Carbery and a group of close friends in memory of Bryan’s father. Over the past 48 years\, the event has raised more than $200\,000 for Victoria Hospice. The 49th Anniversary tournament will be held at Uplands Golf Course on August 26. \nSupport the Hugh Carbery Pro-Am fundraising efforts for Victoria Hospice by donating here.
URL:https://victoriahospice.org/event/50th-annual-hugh-carbery-pro-am-tournament/
LOCATION:Uplands Golf Course\, Victoria\, British Columbia\, v8r 5k5\, Canada
CATEGORIES:Fundraiser
ATTACH;FMTTYPE=image/jpeg:https://victoriahospice.org/wp-content/uploads/2024/07/Hugh-Carbery-1.jpg
END:VEVENT
END:VCALENDAR