BEGIN:VCALENDAR
VERSION:2.0
PRODID:-//Victoria Hospice - ECPv6.15.20//NONSGML v1.0//EN
CALSCALE:GREGORIAN
METHOD:PUBLISH
X-ORIGINAL-URL:https://victoriahospice.org
X-WR-CALDESC:Events for Victoria Hospice
REFRESH-INTERVAL;VALUE=DURATION:PT1H
X-Robots-Tag:noindex
X-PUBLISHED-TTL:PT1H
BEGIN:VTIMEZONE
TZID:America/Vancouver
BEGIN:DAYLIGHT
TZOFFSETFROM:-0800
TZOFFSETTO:-0700
TZNAME:PDT
DTSTART:20230312T100000
END:DAYLIGHT
BEGIN:STANDARD
TZOFFSETFROM:-0700
TZOFFSETTO:-0800
TZNAME:PST
DTSTART:20231105T090000
END:STANDARD
BEGIN:DAYLIGHT
TZOFFSETFROM:-0800
TZOFFSETTO:-0700
TZNAME:PDT
DTSTART:20240310T100000
END:DAYLIGHT
BEGIN:STANDARD
TZOFFSETFROM:-0700
TZOFFSETTO:-0800
TZNAME:PST
DTSTART:20241103T090000
END:STANDARD
BEGIN:DAYLIGHT
TZOFFSETFROM:-0800
TZOFFSETTO:-0700
TZNAME:PDT
DTSTART:20250309T100000
END:DAYLIGHT
BEGIN:STANDARD
TZOFFSETFROM:-0700
TZOFFSETTO:-0800
TZNAME:PST
DTSTART:20251102T090000
END:STANDARD
END:VTIMEZONE
BEGIN:VEVENT
DTSTART;VALUE=DATE:20240905
DTEND;VALUE=DATE:20240906
DTSTAMP:20260424T100427
CREATED:20240730T160655Z
LAST-MODIFIED:20240730T160655Z
UID:10000453-1725494400-1725580799@victoriahospice.org
SUMMARY:IMIRA Golf Tournament
DESCRIPTION:After a long-awaited return\, the Island Mechanical Industrial Relations Association (IMIRA) Golf Tournament is back for the first time since 2019! Victoria Hospice is thrilled to once again be their chosen charity partner. \nMark your calendars for September 5th and get ready for an unforgettable day at the prestigious Royal Colwood Golf Club. Golfers will enjoy a full day of golfing\, including an exciting putting competition and a post-round dinner.\nYour generosity can make a significant impact. Show your support and help us make a difference by donating below!
URL:https://victoriahospice.org/event/imira-golf-tournament/
LOCATION:Royal Colwood Golf Club\, 629 Goldstream Ave\, Victoria\, British Columbia\, V9B 2W9\, Canada
CATEGORIES:Fundraiser
ATTACH;FMTTYPE=image/png:https://victoriahospice.org/wp-content/uploads/2024/07/IMIRA.png
END:VEVENT
BEGIN:VEVENT
DTSTART;TZID=America/Vancouver:20240921T090000
DTEND;TZID=America/Vancouver:20240921T120000
DTSTAMP:20260424T100427
CREATED:20240621T205535Z
LAST-MODIFIED:20240702T160817Z
UID:10000446-1726909200-1726920000@victoriahospice.org
SUMMARY:Save the Date! Shred-a-thon Sept 21
DESCRIPTION:Are you overwhelmed with paper? Want to clean out the file cabinets for a great cause? Join Victoria Hospice and RecordXpress in the parking lot at Reynolds Secondary School (McKenzie and Borden) for confidential shredding by donation on Saturday\, September 21 from 9-noon. Suggested donation $10 per box. Shred it and forget it!
URL:https://victoriahospice.org/event/save-the-date-shred-a-thon-sept-21/
LOCATION:Reynolds Secondary School\, 3963 Borden St.\, Victoria\, British Columbia\, V8P 3H9\, Canada
CATEGORIES:Fundraiser
ATTACH;FMTTYPE=image/jpeg:https://victoriahospice.org/wp-content/uploads/2024/06/shred-a-thon-1.jpg
END:VEVENT
BEGIN:VEVENT
DTSTART;VALUE=DATE:20240922
DTEND;VALUE=DATE:20240923
DTSTAMP:20260424T100427
CREATED:20240730T161550Z
LAST-MODIFIED:20240904T220554Z
UID:10000456-1726963200-1727049599@victoriahospice.org
SUMMARY:FMO Golf Tournament at Highland Pacific
DESCRIPTION:Attention\, golfers! The highly anticipated 2024 Facilities Maintenance and Operations (FMO) Golf Tournament benefiting Victoria Hospice is almost here. This year sponsored by North West Environmental! \nMark your calendars for Sunday\, September 22nd\, and join us at the beautiful Highland Pacific Golf Course. With space for 80 passionate golfers\, this event is set to be a fantastic day on the greens. \nIn addition to a thrilling round of golf\, the day will feature a raffle and silent auction with amazing donated items. \nCome together with the FMO team and fellow golf enthusiasts for a day dedicated to giving back. The 2024 FMO Tournament for Victoria Hospice promises friendly competition and an opportunity to support a cause that impacts countless lives. \nShow your support and make a difference by donating below
URL:https://victoriahospice.org/event/fmo-golf-tournament-at-highland-pacific/
LOCATION:Highland Pacific Golf Course\, 450 Creed Rd\, Victoria\, BC V9B 6C9\, Victoria\, British Columbia\, Canada
CATEGORIES:Fundraiser
ATTACH;FMTTYPE=image/jpeg:https://victoriahospice.org/wp-content/uploads/2024/07/FMO-Golf.jpg
END:VEVENT
END:VCALENDAR