BEGIN:VCALENDAR
VERSION:2.0
PRODID:-//Victoria Hospice - ECPv6.15.20//NONSGML v1.0//EN
CALSCALE:GREGORIAN
METHOD:PUBLISH
X-WR-CALNAME:Victoria Hospice
X-ORIGINAL-URL:https://victoriahospice.org
X-WR-CALDESC:Events for Victoria Hospice
REFRESH-INTERVAL;VALUE=DURATION:PT1H
X-Robots-Tag:noindex
X-PUBLISHED-TTL:PT1H
BEGIN:VTIMEZONE
TZID:America/Vancouver
BEGIN:DAYLIGHT
TZOFFSETFROM:-0800
TZOFFSETTO:-0700
TZNAME:PDT
DTSTART:20250309T100000
END:DAYLIGHT
BEGIN:STANDARD
TZOFFSETFROM:-0700
TZOFFSETTO:-0800
TZNAME:PST
DTSTART:20251102T090000
END:STANDARD
BEGIN:DAYLIGHT
TZOFFSETFROM:-0800
TZOFFSETTO:-0700
TZNAME:PDT
DTSTART:20260308T100000
END:DAYLIGHT
BEGIN:STANDARD
TZOFFSETFROM:-0700
TZOFFSETTO:-0800
TZNAME:PST
DTSTART:20261101T090000
END:STANDARD
BEGIN:DAYLIGHT
TZOFFSETFROM:-0800
TZOFFSETTO:-0700
TZNAME:PDT
DTSTART:20270314T100000
END:DAYLIGHT
BEGIN:STANDARD
TZOFFSETFROM:-0700
TZOFFSETTO:-0800
TZNAME:PST
DTSTART:20271107T090000
END:STANDARD
END:VTIMEZONE
BEGIN:VEVENT
DTSTART;TZID=America/Vancouver:20260122T103000
DTEND;TZID=America/Vancouver:20260122T120000
DTSTAMP:20260423T120044
CREATED:20251204T194242Z
LAST-MODIFIED:20260106T205534Z
UID:10000575-1769077800-1769083200@victoriahospice.org
SUMMARY:Victoria Hospice Grief Café-SOLD OUT
DESCRIPTION:Please note that the January 22 event is FULL. If you would like to be added to a waiting list\, please call (250-519-3040) \n  \nA grief cafe is a social gathering of people experiencing bereavement who wish to talk about their own experience and listen to the experiences of others. \nWhen you arrive at the Victoria Hospice Community Support Centre\, you will be greeted by one of the volunteer facilitators. You’ll be invited to choose a drink or a snack and find a seat at one of the tables. The volunteers will introduce the format of the session and provide some short prompts to help guide conversation at the tables. You’ll have an opportunity to share your own story\, if you wish\, and to listen to the experience of others. \nPlease be aware that these sessions are social in nature and not a substitute for medical care or counselling. \nThere is no charge to attend\, however seats are limited and sessions fill up quickly\, so please do not request a ticket unless you plan to attend. If you have a ticket but can’t attend\, please call and let us know (250-519-3040) so that we can offer your seat to someone else. \nAlso\, this is not a drop-in event so\, please arrive prior to the start so that you have time to settle in. \nSeats may be reserved through the EventBrite link below.
URL:https://victoriahospice.org/event/victoria-hospice-grief-cafe-35/
LOCATION:Victoria Hospice Community Support Centre\, 102-4450 Chatterton Way\, Victoria\, British Columbia\, Canada
CATEGORIES:Bereavement Support Group
ATTACH;FMTTYPE=image/png:https://victoriahospice.org/wp-content/uploads/2024/04/Untitled-design-e1712582006457.png
END:VEVENT
BEGIN:VEVENT
DTSTART;TZID=America/Vancouver:20260124T190000
DTEND;TZID=America/Vancouver:20260124T220000
DTSTAMP:20260423T120044
CREATED:20260116T215051Z
LAST-MODIFIED:20260116T232952Z
UID:10000587-1769281200-1769292000@victoriahospice.org
SUMMARY:Pink in the Rink- Hosted by Westshore Wolves
DESCRIPTION:Donate now at the link below! \nThe Westshore Wolves are proud to announce their first-ever Pink in the Rink game\, taking place Saturday\, January 24\, 2026\, in support of Victoria Hospice. This special event will bring together players\, fans\, and community partners to raise funds and awareness for compassionate end-of-life care and grief support services that make a lasting difference for families across Greater Victoria. \n“Pink in the Rink is about more than hockey — it’s about community\, compassion\, and giving back\,” said David Edgar\, Sponsorship and Community Engagement Coordinator for the Westshore Wolves. “We’re honoured to partner with Victoria Hospice and help raise funds for the vital care they provide to families during life’s most difficult moments.” \nFans can look forward to a memorable evening filled with community spirit\, raffle prizes\, a silent auction\, and limited-edition pink jerseys worn by the Wolves for this one-night-only event. Each jersey will later be auctioned off\, with proceeds directly benefiting Victoria Hospice. \nThe Wolves are inviting local businesses and individuals to get involved through jersey sponsorships or silent auction donations. Sponsorship opportunities include having your company logo featured on the custom pink jerseys\, offering excellent visibility while supporting a meaningful cause. \nJoin us as we turn the rink pink and skate for a cause that truly matters. \nDonate now at the link below!
URL:https://victoriahospice.org/event/pink-in-the-rink-hosted-by-westshore-wolves-hockey/
LOCATION:Juan de Fuca Centre\, 1767 Island Highway\, Victoria\, British Columbia\, V9B 1J1.\, Canada
CATEGORIES:Fundraiser
ATTACH;FMTTYPE=image/jpeg:https://victoriahospice.org/wp-content/uploads/2026/01/2.-pink-in-the-rink-1-e1768600347389.jpg
END:VEVENT
BEGIN:VEVENT
DTSTART;TZID=America/Vancouver:20260127T160000
DTEND;TZID=America/Vancouver:20260127T180000
DTSTAMP:20260423T120044
CREATED:20251215T194325Z
LAST-MODIFIED:20251215T194325Z
UID:10000579-1769529600-1769536800@victoriahospice.org
SUMMARY:Living with Grief: Adjusting to Life After Loss (in person)
DESCRIPTION:A one-time workshop covering the basics of grief and mourning\, and ways to cope for those who are bereaved following the death of a loved one (this is the same content used in previous offerings of this workshop). This is an education-focussed but interactive workshop that encourages sharing from participants while learning about different ideas around grief and mourning. Although we will not be screening participants\, we recommend that you give yourself at least one month after your loss before attending this workshop due to the potentially overwhelming nature of grief. \n\n\n\nAre you grieving the death of someone important to you? Are you surprised by your grief and wondering what is normal and how best to cope? This workshop\, developed by the grief counsellors at Victoria Hospice\, will help you to deepen your understanding of your grief\, as well as offering a chance to connect with other grievers in our community. Join us as we: \n\n\n\n\nShare and support one another in your grieving experiences\n\n\n\nBetter understand grieving and mourning\n\n\n\nExplore the many ways that grief can impact our lives\n\n\n\nExplain how grieving naturally works to help us live with our losses\n\n\n\nIdentify ways to support healthy adjustment to loss\n\n\n\nExplore your continued connection to the person who has died\n\n\n\nHave opportunities for you to reflect and share on the material\n\n\n\nAnswer your questions\n\n\n\n\nTo register\, please complete the Eventbrite link \n\n\n\nThe workshop is free of charge. Please only register if you feel will be able to attend the workshop. As there are a limited number of spaces available\, confirming a ticket means you are claiming one of these spaces. If you have to cancel your registration\, please contact us at the information below. \n\n\n\nThis workshop will take place at our Community Support Centre at 102-4450 Chatterton Way. Please do not attend if you have signs of illness/infection. \n\n\n\nIf you have further questions\, please call Bereavement Services at 250-519-3040 or email Hospice.Bereavement@islandhealth.ca \n\n\n\n 
URL:https://victoriahospice.org/event/living-with-grief-adjusting-to-life-after-loss-in-person-11/
LOCATION:Victoria Hospice Community Support Centre\, 102-4450 Chatterton Way\, Victoria\, British Columbia\, Canada
CATEGORIES:Bereavement Workshop
ATTACH;FMTTYPE=image/jpeg:https://victoriahospice.org/wp-content/uploads/2023/06/2022-03-01-Hospice-64-web-1.jpeg
END:VEVENT
BEGIN:VEVENT
DTSTART;VALUE=DATE:20260130
DTEND;VALUE=DATE:20260131
DTSTAMP:20260423T120044
CREATED:20251119T172905Z
LAST-MODIFIED:20260212T174820Z
UID:10000572-1769731200-1769817599@victoriahospice.org
SUMMARY:Palliative Care Pharmacy: a 6 week UVic Continuing Education Course
DESCRIPTION:Developed in partnership between Victoria Hospice and Continuing Studies at the University of Victoria\, the online Palliative Care Pharmacy micro-credential program enables pharmacists to acquire the specialized knowledge to support palliative care patients\, family\, health and community care nurses\, and general practitioners. Topics covered include: the pharmacist’s role in a palliative care team; principles of pain management; use of opioids in palliative care; symptom management; deprescribing; drug-related adverse effects; and cancer-associated thrombosis. Learners who successfully complete this program will receive a micro-certificate. \n  \nhttps://continuingstudies.uvic.ca/health-wellness-and-safety/programs/palliative-care-pharmacy \nThe University of Victoria has recently revised their CCCEP-accredited online micro-credential designed specifically for pharmacists: Palliative Care Pharmacy. This is a 6-week course\, beginning January 30\, 2026. Learners will acquire the specialized knowledge and skills to support patients and families as well as other members of the interprofessional team in providing palliative care. Topics include: \n\nThe pharmacist’s role in a palliative care team\nPrinciples of pain management\nUse of opioids in palliative care\nSymptom management\nDeprescribing\nDrug-related adverse effects\nCancer-associated thrombosis\n\nLearn more
URL:https://victoriahospice.org/event/palliative-care-pharmacy-a-6-week-uvic-continuing-education-course/
LOCATION:BC
CATEGORIES:Professional Education
ATTACH;FMTTYPE=image/jpeg:https://victoriahospice.org/wp-content/uploads/2024/09/UVic-Palliative-Pharm-e1726243852554.jpg
END:VEVENT
END:VCALENDAR