BEGIN:VCALENDAR
VERSION:2.0
PRODID:-//Victoria Hospice - ECPv6.15.20//NONSGML v1.0//EN
CALSCALE:GREGORIAN
METHOD:PUBLISH
X-ORIGINAL-URL:https://victoriahospice.org
X-WR-CALDESC:Events for Victoria Hospice
REFRESH-INTERVAL;VALUE=DURATION:PT1H
X-Robots-Tag:noindex
X-PUBLISHED-TTL:PT1H
BEGIN:VTIMEZONE
TZID:America/Vancouver
BEGIN:DAYLIGHT
TZOFFSETFROM:-0800
TZOFFSETTO:-0700
TZNAME:PDT
DTSTART:20250309T100000
END:DAYLIGHT
BEGIN:STANDARD
TZOFFSETFROM:-0700
TZOFFSETTO:-0800
TZNAME:PST
DTSTART:20251102T090000
END:STANDARD
BEGIN:DAYLIGHT
TZOFFSETFROM:-0800
TZOFFSETTO:-0700
TZNAME:PDT
DTSTART:20260308T100000
END:DAYLIGHT
BEGIN:STANDARD
TZOFFSETFROM:-0700
TZOFFSETTO:-0800
TZNAME:PST
DTSTART:20261101T090000
END:STANDARD
BEGIN:DAYLIGHT
TZOFFSETFROM:-0800
TZOFFSETTO:-0700
TZNAME:PDT
DTSTART:20270314T100000
END:DAYLIGHT
BEGIN:STANDARD
TZOFFSETFROM:-0700
TZOFFSETTO:-0800
TZNAME:PST
DTSTART:20271107T090000
END:STANDARD
END:VTIMEZONE
BEGIN:VEVENT
DTSTART;TZID=America/Vancouver:20260408T080000
DTEND;TZID=America/Vancouver:20260502T160000
DTSTAMP:20260423T090705
CREATED:20260408T163615Z
LAST-MODIFIED:20260420T230336Z
UID:10000605-1775635200-1777737600@victoriahospice.org
SUMMARY:Victoria Hospice Spring 50/50 Raffle
DESCRIPTION:Don’t miss your chance to WIN BIG while supporting a cause close to home! \nTicket sales for the Victoria Hospice Spring 50/50 raffle sponsored by Vyta are now open and the pot is climbing rapidly! \nEvery ticket you purchase puts you in the running for an incredible cash prize and directly supports Victoria Hospice in providing compassionate end-of-life and bereavement care to individuals and families in our community. \nHow to Enter: \n\n\n\nGET YOUR TICKETS NOW\n\n\n\n\n\nSelect your ticket package\nFeel great knowing you’re making a meaningful difference\n\nTicket sales close: May 2\, 2026 4pm \nWinning ticket drawn: May 2\, 2026 5pm \nGood luck—and happy raffling! \nChances are 1 in 3058 to win a prize. Actual odds depend on number of tickets sold. BC GAMING EVENT LICENSE #171017. Problem Gambling Help Line: 1-888-795-6111 www.bcresponsiblegambling.ca. Know your limit\, play within it.
URL:https://victoriahospice.org/event/victoria-hospice-spring-50-50-raffle/
LOCATION:BC
CATEGORIES:Fundraiser
ATTACH;FMTTYPE=image/jpeg:https://victoriahospice.org/wp-content/uploads/2026/04/Untitled-design-3.jpg
END:VEVENT
BEGIN:VEVENT
DTSTART;TZID=America/Vancouver:20260502T100000
DTEND;TZID=America/Vancouver:20260502T130000
DTSTAMP:20260423T090705
CREATED:20260324T194639Z
LAST-MODIFIED:20260401T200728Z
UID:10000601-1777716000-1777726800@victoriahospice.org
SUMMARY:Shred-a-thon for Hike for Hospice
DESCRIPTION:Are you planning on doing some spring cleaning? Want to get rid of old\, confidential documents? Join Hike for Hospice team\, Team WMC and RecordXpress in the parking lot of EMCO for a Shred-a-thon fundraiser in support of Victoria Hospice! \nWhen: Saturday\, May 2\, 2026 \nTime: 10:00am – 1:00pm \nPlace: EMCO – 3050B Leigh Rd. Langford (off Langford Parkway\, across from Starlight Stadium) \nConfidential shredding is by donation. Minimum suggested donation: $10 per box. \nBusiness and personal shredding is accepted. \n 
URL:https://victoriahospice.org/event/shred-a-thon-for-hike-for-hospice/
LOCATION:BC
CATEGORIES:Fundraiser
ATTACH;FMTTYPE=image/png:https://victoriahospice.org/wp-content/uploads/2026/03/Shred-a-thon-poster.png
END:VEVENT
BEGIN:VEVENT
DTSTART;TZID=America/Vancouver:20260503T090000
DTEND;TZID=America/Vancouver:20260503T120000
DTSTAMP:20260423T090705
CREATED:20260112T200310Z
LAST-MODIFIED:20260401T203927Z
UID:10000584-1777798800-1777809600@victoriahospice.org
SUMMARY:Hike for Hospice 2026
DESCRIPTION:Join us for our annual Hike for Hospice at beautiful Willows Beach Park in Oak Bay! This fundraising event brings our community together to raise critical funds and awareness for Victoria Hospice\, while enjoying a scenic 3.5km loop along Beach Drive to Oak Bay Marina and back. \nThere are so many ways to participate: Encourage your workplace to join the Workplace Challenge\, bring along a four-legged friend for their chance to win the “Best Dressed Dog” award\, or Hike on Your Site – wherever it works best for your schedule. Or if you’d like to volunteer\, your help is greatly appreciated! \nDon’t forget to purchase your ticket for the 50/50 draw!  Tickets are on sale now! \nRaffle sponsored by Vyta – Aging in Place Simplified \nOnsite registration\, pledge drop off and entertainment at Willows Park begins at 9 a.m.. Opening ceremonies are at 9:45 a.m.\, and the walk begins at 10 a.m. \nRegistration is OPEN. Once you register\, share your fundraising page with friends and family to help you reach your fundraising goal. You can also host fundraising events such as bottle drives\, bake sales\, jeans day and more. Need ideas? Visit our Fundraising Tips page for ways you can fundraise before the event. \nDon’t miss your opportunity to walk in memory of a friend or loved one while raising funds in support of compassionate end-of-life care at Victoria Hospice. \nHope to see you there! \nContact Debbie Greenway for more information.
URL:https://victoriahospice.org/event/hike-for-hospice-2026/
LOCATION:Willows Park\, Willows Park\, Victoria\, British Columbia\, Canada
CATEGORIES:Fundraiser
ATTACH;FMTTYPE=image/jpeg:https://victoriahospice.org/wp-content/uploads/2026/01/slider-2-1381.jpg
END:VEVENT
BEGIN:VEVENT
DTSTART;TZID=America/Vancouver:20260506T163000
DTEND;TZID=America/Vancouver:20260506T180000
DTSTAMP:20260423T090705
CREATED:20260310T164038Z
LAST-MODIFIED:20260310T164038Z
UID:10000595-1778085000-1778090400@victoriahospice.org
SUMMARY:Victoria Hospice Grief Café
DESCRIPTION:A grief cafe is a social gathering of people experiencing bereavement who wish to talk about their own experience and listen to the experiences of others. \nWhen you arrive at the Victoria Hospice Community Support Centre\, you will be greeted by one of the volunteer facilitators. You’ll be invited to choose a drink or a snack and find a seat at one of the tables. The volunteers will introduce the format of the session and provide some short prompts to help guide conversation at the tables. You’ll have an opportunity to share your own story\, if you wish\, and to listen to the experience of others. \nPlease be aware that these sessions are social in nature and not a substitute for medical care or counselling. \nThere is no charge to attend\, however seats are limited and sessions fill up quickly\, so please do not request a ticket unless you plan to attend. If you have a ticket but can’t attend\, please call and let us know (250-519-3040) so that we can offer your seat to someone else. \nAlso\, this is not a drop-in event so\, please arrive prior to the start so that you have time to settle in. \nSeats may be reserved through the EventBrite link below.
URL:https://victoriahospice.org/event/victoria-hospice-grief-cafe-42/
LOCATION:Victoria Hospice Community Support Centre\, 102-4450 Chatterton Way\, Victoria\, British Columbia\, Canada
CATEGORIES:Bereavement Support Group
ATTACH;FMTTYPE=image/png:https://victoriahospice.org/wp-content/uploads/2024/04/Untitled-design-e1712582006457.png
END:VEVENT
BEGIN:VEVENT
DTSTART;TZID=America/Vancouver:20260506T163000
DTEND;TZID=America/Vancouver:20260506T183000
DTSTAMP:20260423T090705
CREATED:20221209T195447Z
LAST-MODIFIED:20260330T220451Z
UID:10000393-1778085000-1778092200@victoriahospice.org
SUMMARY:Room to Grieve\, Space to Heal : Bereavement Support Group following a toxic drug/substance-related death (8 weeks)
DESCRIPTION:Recognizing the impacts of the toxic drug crisis and substance use on individuals and families\, Victoria Hospice Bereavement Services offers an 8-week support group for adults who are grieving someone who has died by a toxic drug/substance-related death. Co-facilitated by two bereavement counsellors\, the group incorporates grief education\, sharing and support\, therapeutic activities and exploration. \nThe group aims to enhance one’s sense of community and belonging\, explore unique features of grief in response to a substance use-related death\, and support the healing process of grief. This group takes place in a public park\, where the nature-based format adds to the therapeutic experience of the support group.  \nWhen: Running from May 6th to June 24th\, 2026\, these 8 sessions will take place on Wednesdays from 4:30 to 6:30pm. A commitment to attend all sessions is expected in order to enhance the group experience for all group members. \nWhere: We will meet in an outdoor park close to the Victoria Hospice Community Support Centre on Chatterton Way\, weather permitting.  If weather is poor on any group date\, the group will meet in our group room at the centre \nWho: Limited number of registered participants (adults) who are bereaved following the loss of someone important in their life to a toxic drug or substance use-related death. \nTo Register: A pre-group intake call with a counsellor is required in order to discuss your needs\, answer any questions you may have\, and determine whether the group is a good fit for you at this time \nFee: There is no charge to attend this group. As we are a donor-funded organization\, though not expected\, should you be in a position to donate\, please follow the link here: Your support is needed | Ways to donate to Victoria Hospice \nTo Register or to obtain more Information: \nPlease call bereavement services at 250-519-3040 or Email Hospice.Bereavement@islandhealth.ca \n  \n\n 
URL:https://victoriahospice.org/event/room-to-grieve-space-to-heal-a-bereavement-support-group-following-a-toxic-drug-death/
LOCATION:Victoria Hospice Community Support Centre\, 102-4450 Chatterton Way\, Victoria\, British Columbia\, Canada
CATEGORIES:Bereavement Support Group
ATTACH;FMTTYPE=image/png:https://victoriahospice.org/wp-content/uploads/2022/02/Hug-small.png
ORGANIZER;CN="Victoria Hospice":MAILTO:edresearch@victoriahospice.org
END:VEVENT
BEGIN:VEVENT
DTSTART;VALUE=DATE:20260509
DTEND;VALUE=DATE:20260510
DTSTAMP:20260423T090705
CREATED:20260320T194729Z
LAST-MODIFIED:20260320T230015Z
UID:10000599-1778284800-1778371199@victoriahospice.org
SUMMARY:Anneswer to Cancer Soccer Tournament
DESCRIPTION:The World Cup Soccer Camp’s annual Anneswer to Cancer Soccer Tournament is back\, bringing together friends\, families\, and soccer fans to support Victoria Hospice. Now in its 14th year\, this event has raised over $690\,000 to provide compassionate end-of-life care for those in need! \nThis exciting event will feature a 12-team round-robin soccer tournament\, along with plenty of fun activities for all ages\, including penalty shots\, a radar machine\, juggling contests\, cut-throat keeper — and back by popular demand…the obstacle course challenge! \nThe action kicks off at 11:00 AM at Tyndall Turf Soccer Field\, with registration for the tournament starting at 12:00 PM. It’s a day filled with fun for the whole family! \nParticipants are encouraged to raise funds by collecting pledges online or in their local community before the event. \nHere’s how you can support this amazing cause: \nSponsor: The Anneswer to Cancer team is looking for sponsors! Your logo could be featured on event t-shirts\, the event website\, and social media. Interested? Reach out to Brett at AnneswertoCancer@gmail.com. \nDonate: Can’t make it to the event? You can still support this incredible fundraiser by donating online: 2026 Anneswer to Cancer – Victoria Hospice \nVolunteer: Volunteers are essential to making this event a success. If you’d like to lend a hand\, please contact Brett
URL:https://victoriahospice.org/event/16682/
LOCATION:Tyndall Turf Soccer Field\, Victoria\, British Columbia\, V8N 3L3\, Canada
ATTACH;FMTTYPE=image/jpeg:https://victoriahospice.org/wp-content/uploads/2026/03/Copy-of-Anneswer-to-Cancer-2023-YGP-28-1.jpg
END:VEVENT
BEGIN:VEVENT
DTSTART;TZID=America/Vancouver:20260509T103000
DTEND;TZID=America/Vancouver:20260627T123000
DTSTAMP:20260423T090705
CREATED:20260330T220257Z
LAST-MODIFIED:20260330T220257Z
UID:10000602-1778322600-1782563400@victoriahospice.org
SUMMARY:Walking Through Grief Support Group (8 weeks)
DESCRIPTION:The ‘Walking Through Grief’ Support Group is an 8-week walking support group\, open to all adults in the Greater Victoria Community who are bereaved after the death of someone important in their life \nWhile walking at a moderate pace in the area near the Chatterton Way Community Support Centre\, with the facilitation of a Victoria Hospice Bereavement Counsellor and Bereavement Volunteer\, this support group is a way to explore your grief through the movement of walking\, being outdoors in nature\, and by sharing with and supporting other grievers. \nMORE DETAILS \nWhen: Saturdays\, May 9th to June 27th\, 2026\, 10:30am to approximately 12:15pm (the first session could go until 12:30pm). Session end time may vary depending on pace of group. \nWhere: Walks will begin at the Community Support Centre at 102-4450 Chatterton Way and will follow the Rithet’s Bog loop. \nWho: Limited number of registered participants (adults) who are bereaved following the death of someone important in their life. Participants will be required to sign a self-declaration form stating they are capable of walking for an hour and have checked in with their doctor if needed. If you are unsure if you can walk this location for this long\, please walk the full Rithet’s Bog loop to see if this is possible for you at this time before signing up for this support group.  \nSessions: Each session will open and close with participants gathering in a circle with a brief discussion round. In between\, participants will head out on an approximately hour-long walk. Except for inclement weather\, sessions will run rain or shine. \nHow: You must be pre-registered to join this group. A pre-group intake conversation with a counsellor may be required to discuss your needs\, answer any questions you may have\, and determine whether the group is a good fit for you at this time. \nFee: There is no charge to attend this group. As we are a donor-funded organization\, though not expected\, should you be in a position to donate\, please follow the link here: Your support is needed | Ways to donate to Victoria Hospice \nTo Register or to obtain more Information: \nPlease call bereavement services at 250-519-3040 or Email Hospice.Bereavement@islandhealth.ca
URL:https://victoriahospice.org/event/walking-through-grief-support-group-8-weeks-3/
LOCATION:Victoria Hospice Community Support Centre\, 102-4450 Chatterton Way\, Victoria\, British Columbia\, Canada
CATEGORIES:Bereavement Support Group
ATTACH;FMTTYPE=image/jpeg:https://victoriahospice.org/wp-content/uploads/2022/08/shutterstock_361011203-scaled-e1671128665238-1.jpg
END:VEVENT
BEGIN:VEVENT
DTSTART;TZID=America/Vancouver:20260519T130000
DTEND;TZID=America/Vancouver:20260519T160000
DTSTAMP:20260423T090705
CREATED:20260401T200618Z
LAST-MODIFIED:20260401T211946Z
UID:10000603-1779195600-1779206400@victoriahospice.org
SUMMARY:Exploring Grief through Creativity Workshop: Celebrate a Life
DESCRIPTION:If you are grieving the death of a loved one\, and are inspired by art-making and creativity\, join us for an Exploring Grief through Creativity workshop. Facilitated by a Victoria Hospice Bereavement Counsellor with Expressive Arts training\, we provide a non-judgmental creative container for you to access and explore your experiences of grief through various visual art supplies. No prior “art” experience is required to participate – just a willingness and interest to try something creative. \nWhere: This is a 3 hour\, in-person workshop taking place at the Victoria Hospice Community Support Centre at 102-4450 Chatterton Way. \nWhen: Tuesday May 19\, 1pm-4pm \nWho: A limited number of registered participants who are bereaved following the loss of a loved one. \nFee: No cost – All art materials and some refreshments provided. \nWhat to expect: \n\nWelcome and introduction to the session theme;\nA brief demonstration of art materials and some mixed-media techniques;\nAn opportunity for creative exploration;\nA short break\, with tea/coffee and some snacks;\nPersonal reflection time;\nA group discussion and invitation to share with other participants.\n\nSpace for this workshop is limited to 8 people. Registration is required at the Eventbrite link below.
URL:https://victoriahospice.org/event/exploring-grief-through-creativity-workshop-celebrate-a-life/
LOCATION:Victoria Hospice Community Support Centre\, 102-4450 Chatterton Way\, Victoria\, British Columbia\, Canada
CATEGORIES:Bereavement Workshop
ATTACH;FMTTYPE=image/jpeg:https://victoriahospice.org/wp-content/uploads/2026/04/Art-workshop-3-1.jpg
END:VEVENT
BEGIN:VEVENT
DTSTART;TZID=America/Vancouver:20260521T103000
DTEND;TZID=America/Vancouver:20260521T120000
DTSTAMP:20260423T090705
CREATED:20260310T164142Z
LAST-MODIFIED:20260316T174002Z
UID:10000596-1779359400-1779364800@victoriahospice.org
SUMMARY:Victoria Hospice Grief Café
DESCRIPTION:A grief cafe is a social gathering of people experiencing bereavement who wish to talk about their own experience and listen to the experiences of others. \nWhen you arrive at the Victoria Hospice Community Support Centre\, you will be greeted by one of the volunteer facilitators. You’ll be invited to choose a drink or a snack and find a seat at one of the tables. The volunteers will introduce the format of the session and provide some short prompts to help guide conversation at the tables. You’ll have an opportunity to share your own story\, if you wish\, and to listen to the experience of others. \nPlease be aware that these sessions are social in nature and not a substitute for medical care or counselling. \nThere is no charge to attend\, however seats are limited and sessions fill up quickly\, so please do not request a ticket unless you plan to attend. If you have a ticket but can’t attend\, please call and let us know (250-519-3040) so that we can offer your seat to someone else. \nAlso\, this is not a drop-in event so\, please arrive prior to the start so that you have time to settle in. \nSeats may be reserved through the EventBrite link below.
URL:https://victoriahospice.org/event/victoria-hospice-grief-cafe-43/
LOCATION:Victoria Hospice Community Support Centre\, 102-4450 Chatterton Way\, Victoria\, British Columbia\, Canada
CATEGORIES:Bereavement Support Group
ATTACH;FMTTYPE=image/png:https://victoriahospice.org/wp-content/uploads/2024/04/Untitled-design-e1712582006457.png
END:VEVENT
END:VCALENDAR