BEGIN:VCALENDAR
VERSION:2.0
PRODID:-//Victoria Hospice - ECPv6.15.20//NONSGML v1.0//EN
CALSCALE:GREGORIAN
METHOD:PUBLISH
X-WR-CALNAME:Victoria Hospice
X-ORIGINAL-URL:https://victoriahospice.org
X-WR-CALDESC:Events for Victoria Hospice
REFRESH-INTERVAL;VALUE=DURATION:PT1H
X-Robots-Tag:noindex
X-PUBLISHED-TTL:PT1H
BEGIN:VTIMEZONE
TZID:America/Vancouver
BEGIN:DAYLIGHT
TZOFFSETFROM:-0800
TZOFFSETTO:-0700
TZNAME:PDT
DTSTART:20230312T100000
END:DAYLIGHT
BEGIN:STANDARD
TZOFFSETFROM:-0700
TZOFFSETTO:-0800
TZNAME:PST
DTSTART:20231105T090000
END:STANDARD
BEGIN:DAYLIGHT
TZOFFSETFROM:-0800
TZOFFSETTO:-0700
TZNAME:PDT
DTSTART:20240310T100000
END:DAYLIGHT
BEGIN:STANDARD
TZOFFSETFROM:-0700
TZOFFSETTO:-0800
TZNAME:PST
DTSTART:20241103T090000
END:STANDARD
BEGIN:DAYLIGHT
TZOFFSETFROM:-0800
TZOFFSETTO:-0700
TZNAME:PDT
DTSTART:20250309T100000
END:DAYLIGHT
BEGIN:STANDARD
TZOFFSETFROM:-0700
TZOFFSETTO:-0800
TZNAME:PST
DTSTART:20251102T090000
END:STANDARD
END:VTIMEZONE
BEGIN:VEVENT
DTSTART;TZID=America/Vancouver:20240721T100000
DTEND;TZID=America/Vancouver:20240721T150000
DTSTAMP:20260420T231656
CREATED:20240709T162721Z
LAST-MODIFIED:20240710T210724Z
UID:10000450-1721556000-1721574000@victoriahospice.org
SUMMARY:Oak Bay Collector Car Festival
DESCRIPTION:Ken Agate was a legend in Oak Bay. The proprietor of the Blethering Place since 1981\, he was known for his generosity\, sense of community\, and love of classic collector cars. He founded the Oak Bay Collector Car Festival 24 years ago to share his passion with the community. \nWhen Ken was admitted to Victoria Hospice for end-of-life care last fall\, his friends\, Ron Dempsey and Tony Joe\, brought photos of the event to his bedside. \n“Ken wasn’t able to speak\, but he was certainly expressive and emotional. It was an incredible moment really to see\, as we were telling him how the event was bigger and better than ever\, and how we had an amazing team and a new generation of volunteers\,” Ron says. \nEnjoy viewing classic collector cars – including Ken’s beloved 1938 Dodge Deluxe Touring Sedan – on Oak Bay Avenue Saturday\, July 21 from 10 am to 3 pm. To honour the care Ken received\, organizers will donate partial proceeds to Victoria Hospice. Read more about Ken Agate and the Oak Bay Collector Car Festival. \nSupport the Oak Bay Collector Car Festival’s fundraising efforts for Victoria Hospice by donating here
URL:https://victoriahospice.org/event/oak-bay-collector-car-festival/
LOCATION:Oak Bay Village\, Oak Bay Avenue (Monterey to Mitchell St)\, Victoria\, British Columbia\, Canada
CATEGORIES:Fundraiser
ATTACH;FMTTYPE=image/jpeg:https://victoriahospice.org/wp-content/uploads/2024/07/OBCCF-crowd.jpg
END:VEVENT
END:VCALENDAR